BEGIN:VCALENDAR
VERSION:2.0
PRODID:-//Site de la commune de Saint-Cyprien - ECPv4.5.13//NONSGML v1.0//EN
CALSCALE:GREGORIAN
METHOD:PUBLISH
X-WR-CALNAME:Site de la commune de Saint-Cyprien
X-ORIGINAL-URL:https://www.saintcyprien.fr
X-WR-CALDESC:Events for Site de la commune de Saint-Cyprien
BEGIN:VEVENT
DTSTART;VALUE=DATE:20210703
DTEND;VALUE=DATE:20210703
DTSTAMP:20260421T104715
CREATED:20200929T091059Z
LAST-MODIFIED:20210623T065903Z
UID:14996-1625270400-1625356799@www.saintcyprien.fr
SUMMARY:LA BOULE: pétanque
DESCRIPTION:
URL:https://www.saintcyprien.fr/evenement/la-boule-petanque/
LOCATION:rue du stade\, France
ATTACH;FMTTYPE=image/jpeg:https://www.saintcyprien.fr/wp-content/uploads/2017/10/Boule-Amicale.jpg
END:VEVENT
END:VCALENDAR