BEGIN:VCALENDAR
VERSION:2.0
PRODID:-//Site de la commune de Saint-Cyprien - ECPv4.5.13//NONSGML v1.0//EN
CALSCALE:GREGORIAN
METHOD:PUBLISH
X-WR-CALNAME:Site de la commune de Saint-Cyprien
X-ORIGINAL-URL:https://www.saintcyprien.fr
X-WR-CALDESC:Events for Site de la commune de Saint-Cyprien
BEGIN:VEVENT
DTSTART;VALUE=DATE:20230319
DTEND;VALUE=DATE:20230319
DTSTAMP:20260421T104515
CREATED:20221020T123154Z
LAST-MODIFIED:20221020T125652Z
UID:20480-1679184000-1679270399@www.saintcyprien.fr
SUMMARY:Municipalité Commémoration du 19 mars 11h
DESCRIPTION:
URL:https://www.saintcyprien.fr/evenement/municipalite-ceremonie-du-19-mars/
ATTACH;FMTTYPE=image/jpeg:https://www.saintcyprien.fr/wp-content/uploads/2021/03/Commemoration-du-19-mars-1962_articleimage-e1616151911777.jpg
END:VEVENT
END:VCALENDAR