BEGIN:VCALENDAR
VERSION:2.0
PRODID:-//Site de la commune de Saint-Cyprien - ECPv4.5.13//NONSGML v1.0//EN
CALSCALE:GREGORIAN
METHOD:PUBLISH
X-WR-CALNAME:Site de la commune de Saint-Cyprien
X-ORIGINAL-URL:https://www.saintcyprien.fr
X-WR-CALDESC:Events for Site de la commune de Saint-Cyprien
BEGIN:VEVENT
DTSTART;VALUE=DATE:20220124
DTEND;VALUE=DATE:20220124
DTSTAMP:20260420T190537
CREATED:20211201T101003Z
LAST-MODIFIED:20220122T073645Z
UID:18453-1642982400-1643068799@www.saintcyprien.fr
SUMMARY:ST Cyp Loisirs et Détente Assemblée Générale 10h00 ** annulée **
DESCRIPTION:
URL:https://www.saintcyprien.fr/evenement/st-cyp-loisirs-et-detente-assemblee-generale-10h00/
LOCATION:rue du stade
ATTACH;FMTTYPE=image/jpeg:https://www.saintcyprien.fr/wp-content/uploads/2017/10/st-cyp-loisirs-détente.jpg
END:VEVENT
END:VCALENDAR